BEGIN:VCALENDAR
VERSION:2.0
PRODID:-//Plone.org//NONSGML plone.app.event//EN
X-WR-TIMEZONE:America/New_York
BEGIN:VEVENT
SUMMARY:Zombie Barbies
DTSTART;TZID=America/New_York:20241023T150000
DTEND;TZID=America/New_York:20241023T160000
DTSTAMP:20260424T173507Z
UID:250846712f4c4338b59bc4a0ee89410d@saas_stack_varnish:6080
ATTENDEE;CN="teens in grades 9-12";ROLE=REQ-PARTICIPANT:teens in grades 9-
 12
CATEGORIES:teen
CONTACT:Lake Seif\, 269-945-4263\, lseif@hastingspubliclibrary.org
CREATED:20240423T195733Z
LAST-MODIFIED:20240610T171107Z
LOCATION:Community Room
URL:https://www.hastingspubliclibrary.org/news-events/calendar/zombie-barb
 ies
END:VEVENT
BEGIN:VTIMEZONE
TZID:America/New_York
X-LIC-LOCATION:America/New_York
BEGIN:DAYLIGHT
DTSTART:20240310T030000
TZNAME:EDT
TZOFFSETFROM:-0500
TZOFFSETTO:-0400
END:DAYLIGHT
END:VTIMEZONE
END:VCALENDAR
