BEGIN:VCALENDAR
VERSION:2.0
PRODID:-//Plone.org//NONSGML plone.app.event//EN
X-WR-TIMEZONE:America/New_York
BEGIN:VEVENT
SUMMARY:War Hammer Miniatures
DTSTART;TZID=America/New_York:20230819T110000
DTEND;TZID=America/New_York:20230819T150000
DTSTAMP:20260424T173318Z
UID:c79e219c3e0b458186f0c564855df8a1@saas_stack_varnish:6080
RRULE:FREQ=MONTHLY;UNTIL=20231230T000000;BYDAY=+3SA
CATEGORIES:gaming,teen
CONTACT:Adam Cogswell\, 517-852-4673
CREATED:20230628T121816Z
LAST-MODIFIED:20230728T130026Z
LOCATION:Community Room
URL:https://www.hastingspubliclibrary.org/news-events/calendar/war-hammer-
 miniatures
END:VEVENT
BEGIN:VTIMEZONE
TZID:America/New_York
X-LIC-LOCATION:America/New_York
BEGIN:DAYLIGHT
DTSTART:20230312T030000
TZNAME:EDT
TZOFFSETFROM:-0500
TZOFFSETTO:-0400
END:DAYLIGHT
END:VTIMEZONE
END:VCALENDAR
