BEGIN:VCALENDAR
VERSION:2.0
PRODID:-//Plone.org//NONSGML plone.app.event//EN
X-WR-TIMEZONE:America/New_York
BEGIN:VEVENT
SUMMARY:War Hammer 2024
DTSTART;TZID=America/New_York:20240720T090000
DTEND;TZID=America/New_York:20240720T140000
DTSTAMP:20260424T125410Z
UID:063e5caec56b4dd78ee9ee0b744fd502@saas_stack_varnish:6080
CATEGORIES:gaming,teen
CONTACT:Adam Cogswell\, 517-852-4673
CREATED:20230628T121816Z
LAST-MODIFIED:20240423T194749Z
LOCATION:Community Room
URL:https://www.hastingspubliclibrary.org/news-events/calendar/war-hammer-
 2024/2024-07-20
END:VEVENT
BEGIN:VTIMEZONE
TZID:America/New_York
X-LIC-LOCATION:America/New_York
BEGIN:DAYLIGHT
DTSTART:20240310T030000
TZNAME:EDT
TZOFFSETFROM:-0500
TZOFFSETTO:-0400
END:DAYLIGHT
END:VTIMEZONE
END:VCALENDAR
