BEGIN:VCALENDAR
VERSION:2.0
PRODID:-//Plone.org//NONSGML plone.app.event//EN
X-WR-TIMEZONE:America/New_York
BEGIN:VEVENT
SUMMARY:Under the Ocean with Marty Buehler
DTSTART;TZID=America/New_York:20220627T190000
DTEND;TZID=America/New_York:20220627T210000
DTSTAMP:20260424T191339Z
UID:1598144dfc4544eea5f467513d2802da@saas_stack_varnish:6080
CATEGORIES:summer reading,families
CONTACT:Barbara Haywood\, 269-945-4263\, bhaywood@HastingsPublicLibrary.or
 g
CREATED:20220520T170427Z
LAST-MODIFIED:20220520T172141Z
LOCATION:Community Room
URL:https://www.hastingspubliclibrary.org/news-events/calendar/under-the-o
 cean-with-marty-buehler
END:VEVENT
BEGIN:VTIMEZONE
TZID:America/New_York
X-LIC-LOCATION:America/New_York
BEGIN:DAYLIGHT
DTSTART:20220313T030000
TZNAME:EDT
TZOFFSETFROM:-0500
TZOFFSETTO:-0400
END:DAYLIGHT
END:VTIMEZONE
END:VCALENDAR
