BEGIN:VCALENDAR
VERSION:2.0
PRODID:-//Plone.org//NONSGML plone.app.event//EN
X-WR-TIMEZONE:America/New_York
BEGIN:VEVENT
SUMMARY:Teen Trivia - Percy Jackson
DTSTART;TZID=America/New_York:20240618T140000
DTEND;TZID=America/New_York:20240618T150000
DTSTAMP:20260424T174414Z
UID:58d58cefc52c4134ae6b99e8511faac8@saas_stack_varnish:6080
ATTENDEE;CN="anyone in grades 6-12";ROLE=REQ-PARTICIPANT:anyone in grades 
 6-12
CATEGORIES:teen,trivia,summer reading
CONTACT:Erin Quada\, 269-945-4263\, equada@hastingspubliclibrary.org
CREATED:20240405T130859Z
LAST-MODIFIED:20240405T135115Z
LOCATION:Community Room
URL:https://www.hastingspubliclibrary.org/news-events/calendar/teen-trivia
 -percy-jackson
END:VEVENT
BEGIN:VTIMEZONE
TZID:America/New_York
X-LIC-LOCATION:America/New_York
BEGIN:DAYLIGHT
DTSTART:20240310T030000
TZNAME:EDT
TZOFFSETFROM:-0500
TZOFFSETTO:-0400
END:DAYLIGHT
END:VTIMEZONE
END:VCALENDAR
