BEGIN:VCALENDAR
VERSION:2.0
PRODID:-//Plone.org//NONSGML plone.app.event//EN
X-WR-TIMEZONE:America/New_York
BEGIN:VEVENT
SUMMARY:High School Open Study 5/28
DTSTART;TZID=America/New_York:20240528T163000
DTEND;TZID=America/New_York:20240528T183000
DTSTAMP:20260424T174004Z
UID:01d11e905aea4aaea52b61f2c2eeacd5@saas_stack_varnish:6080
ATTENDEE;CN="anyone in grades 9-12";ROLE=REQ-PARTICIPANT:anyone in grades 
 9-12
CATEGORIES:teen
CONTACT:Erin Quada\, 269-945-4263\, equada@hastingspubliclibrary.org
CREATED:20240405T125743Z
LAST-MODIFIED:20240510T142838Z
LOCATION:Community Room
URL:https://www.hastingspubliclibrary.org/news-events/calendar/teen-open-s
 tudy-5-28
END:VEVENT
BEGIN:VTIMEZONE
TZID:America/New_York
X-LIC-LOCATION:America/New_York
BEGIN:DAYLIGHT
DTSTART:20240310T030000
TZNAME:EDT
TZOFFSETFROM:-0500
TZOFFSETTO:-0400
END:DAYLIGHT
END:VTIMEZONE
END:VCALENDAR
