BEGIN:VCALENDAR
VERSION:2.0
PRODID:-//Plone.org//NONSGML plone.app.event//EN
X-WR-TIMEZONE:America/New_York
BEGIN:VEVENT
SUMMARY:Teen Neon Sign Making
DTSTART;TZID=America/New_York:20240311T163000
DTEND;TZID=America/New_York:20240311T190000
DTSTAMP:20260424T174344Z
UID:a20fc8b803b74f08a8ebb4cb8a89085a@saas_stack_varnish:6080
ATTENDEE;CN="Teens ages 13-18";ROLE=REQ-PARTICIPANT:Teens ages 13-18
CATEGORIES:teen,crafts
CONTACT:Emma Seif\, 269-945-4263\, eseif@hastingspubliclibrary.org
CREATED:20231218T203936Z
LAST-MODIFIED:20240207T192206Z
LOCATION:Community Room
URL:https://www.hastingspubliclibrary.org/news-events/calendar/teen-neon-s
 ign-making
END:VEVENT
BEGIN:VTIMEZONE
TZID:America/New_York
X-LIC-LOCATION:America/New_York
BEGIN:DAYLIGHT
DTSTART:20240310T030000
TZNAME:EDT
TZOFFSETFROM:-0500
TZOFFSETTO:-0400
END:DAYLIGHT
END:VTIMEZONE
END:VCALENDAR
