BEGIN:VCALENDAR
VERSION:2.0
PRODID:-//Plone.org//NONSGML plone.app.event//EN
X-WR-TIMEZONE:America/New_York
BEGIN:VEVENT
SUMMARY:Teen Murder Mystery
DTSTART;TZID=America/New_York:20240723T130000
DTEND;TZID=America/New_York:20240723T160000
DTSTAMP:20260424T125409Z
UID:6a634bff2bb548ec894df57ddf145591@saas_stack_varnish:6080
ATTENDEE;CN="anyone in grades 9-12";ROLE=REQ-PARTICIPANT:anyone in grades 
 9-12
CATEGORIES:summer reading,teen
CONTACT:Lake Seif\, 269-945-4263\, lseif@hastingspubliclibrary.org
CREATED:20240405T140517Z
LAST-MODIFIED:20240610T170440Z
LOCATION:Community Room
URL:https://www.hastingspubliclibrary.org/news-events/calendar/teen-murder
 -mystery
END:VEVENT
BEGIN:VTIMEZONE
TZID:America/New_York
X-LIC-LOCATION:America/New_York
BEGIN:DAYLIGHT
DTSTART:20240310T030000
TZNAME:EDT
TZOFFSETFROM:-0500
TZOFFSETTO:-0400
END:DAYLIGHT
END:VTIMEZONE
END:VCALENDAR
