BEGIN:VCALENDAR
VERSION:2.0
PRODID:-//Plone.org//NONSGML plone.app.event//EN
X-WR-TIMEZONE:America/New_York
BEGIN:VEVENT
SUMMARY:Teen Crocheting
DTSTART;TZID=America/New_York:20240116T153000
DTEND;TZID=America/New_York:20240116T170000
DTSTAMP:20260424T174333Z
UID:5b1f0d67276b4ca9afcda455e03ad428@saas_stack_varnish:6080
ATTENDEE;CN="Teens 13-18";ROLE=REQ-PARTICIPANT:Teens 13-18
CATEGORIES:teen,crafts
CONTACT:Emma Seif\, 269-945-4263\, eseif@hastingspubliclibrary.org
CREATED:20231218T191457Z
LAST-MODIFIED:20231218T191537Z
LOCATION:Teen Room
URL:https://www.hastingspubliclibrary.org/news-events/calendar/teen-croche
 ting
END:VEVENT
BEGIN:VTIMEZONE
TZID:America/New_York
X-LIC-LOCATION:America/New_York
BEGIN:STANDARD
DTSTART:20231105T010000
TZNAME:EST
TZOFFSETFROM:-0400
TZOFFSETTO:-0500
END:STANDARD
END:VTIMEZONE
END:VCALENDAR
