BEGIN:VCALENDAR
VERSION:2.0
PRODID:-//Plone.org//NONSGML plone.app.event//EN
X-WR-TIMEZONE:America/New_York
BEGIN:VEVENT
SUMMARY:Talewise Science and Storytelling
DTSTART;TZID=America/New_York:20230628T150000
DTEND;TZID=America/New_York:20230628T160000
DTSTAMP:20260424T191238Z
UID:e6216af4254e4e97a4c15a3824e74315@saas_stack_varnish:6080
CATEGORIES:families,summer reading
CONTACT:Paige Brandli\, 269-945-4263\, pbrandli@hastingspubliclibrary.org
CREATED:20230330T173101Z
LAST-MODIFIED:20230509T150115Z
LOCATION:Community Room
URL:https://www.hastingspubliclibrary.org/news-events/calendar/talewise-sc
 ience-and-storytelling
END:VEVENT
BEGIN:VTIMEZONE
TZID:America/New_York
X-LIC-LOCATION:America/New_York
BEGIN:DAYLIGHT
DTSTART:20230312T030000
TZNAME:EDT
TZOFFSETFROM:-0500
TZOFFSETTO:-0400
END:DAYLIGHT
END:VTIMEZONE
END:VCALENDAR
