BEGIN:VCALENDAR
VERSION:2.0
PRODID:-//Plone.org//NONSGML plone.app.event//EN
X-WR-TIMEZONE:America/New_York
BEGIN:VEVENT
SUMMARY:Stroll & Read July 2024
DTSTART;TZID=America/New_York:20240717T180000
DTEND;TZID=America/New_York:20240717T190000
DTSTAMP:20260422T191030Z
UID:d0afb3f7a60249228f8c20d072cee5ef@saas_stack_varnish:6080
ATTENDEE;CN=families;ROLE=REQ-PARTICIPANT:families
CATEGORIES:summer reading,families
CONTACT:Erin Quada\, 269-945-4263\, equada@hastingspubliclibrary.org
CREATED:20240405T135850Z
LAST-MODIFIED:20240610T170052Z
LOCATION:Fish Hatchery Park
URL:https://www.hastingspubliclibrary.org/news-events/calendar/stroll-read
 -july-2024
END:VEVENT
BEGIN:VTIMEZONE
TZID:America/New_York
X-LIC-LOCATION:America/New_York
BEGIN:DAYLIGHT
DTSTART:20240310T030000
TZNAME:EDT
TZOFFSETFROM:-0500
TZOFFSETTO:-0400
END:DAYLIGHT
END:VTIMEZONE
END:VCALENDAR
