BEGIN:VCALENDAR
VERSION:2.0
PRODID:-//Plone.org//NONSGML plone.app.event//EN
X-WR-TIMEZONE:America/New_York
BEGIN:VEVENT
SUMMARY:Retro Video Game Tournament June 2024
DTSTART;TZID=America/New_York:20240625T130000
DTEND;TZID=America/New_York:20240625T160000
DTSTAMP:20260424T191740Z
UID:e1d4ab9f8a184d24847886341d05917c@saas_stack_varnish:6080
ATTENDEE;CN="anyone in grades 6-12";ROLE=REQ-PARTICIPANT:anyone in grades 
 6-12
CATEGORIES:summer reading,kids,teen,video games
CONTACT:Erin Quada\, 269-945-4263\, equada@hastingspubliclibrary.org
CREATED:20240405T134106Z
LAST-MODIFIED:20240610T165242Z
LOCATION:Community Room
URL:https://www.hastingspubliclibrary.org/news-events/calendar/retro-video
 -game-tournament-june-2024
END:VEVENT
BEGIN:VTIMEZONE
TZID:America/New_York
X-LIC-LOCATION:America/New_York
BEGIN:DAYLIGHT
DTSTART:20240310T030000
TZNAME:EDT
TZOFFSETFROM:-0500
TZOFFSETTO:-0400
END:DAYLIGHT
END:VTIMEZONE
END:VCALENDAR
