BEGIN:VCALENDAR
VERSION:2.0
PRODID:-//Plone.org//NONSGML plone.app.event//EN
X-WR-TIMEZONE:America/New_York
BEGIN:VEVENT
SUMMARY:Reptiles @ the Library
DTSTART;TZID=America/New_York:20230708T110000
DTEND;TZID=America/New_York:20230708T150000
DTSTAMP:20260424T191210Z
UID:e64718b652774812b6eb1d59944ec181@saas_stack_varnish:6080
CATEGORIES:families,summer reading
CONTACT:Paige Brandli\, 269-945-4263\, pbrandli@hastingspubliclibrary.org
CREATED:20230414T154339Z
LAST-MODIFIED:20230509T153653Z
LOCATION:Community Room
URL:https://www.hastingspubliclibrary.org/news-events/calendar/reptiles-th
 e-library
END:VEVENT
BEGIN:VTIMEZONE
TZID:America/New_York
X-LIC-LOCATION:America/New_York
BEGIN:DAYLIGHT
DTSTART:20230312T030000
TZNAME:EDT
TZOFFSETFROM:-0500
TZOFFSETTO:-0400
END:DAYLIGHT
END:VTIMEZONE
END:VCALENDAR
