BEGIN:VCALENDAR
VERSION:2.0
PRODID:-//Plone.org//NONSGML plone.app.event//EN
X-WR-TIMEZONE:America/New_York
BEGIN:VEVENT
SUMMARY:Read-a-thon
DTSTART;VALUE=DATE:20211227
DTEND;VALUE=DATE:20220102
DTSTAMP:20260424T173318Z
UID:359f02f0e425418aaf158faff95ab60c@saas_stack_varnish:6080
CATEGORIES:read event,adults,teen
CONTACT:Sarah Proulx\, 269-945-4263\, sproulx@HastingsPublicLibrary.org\, 
 https://www.facebook.com/events/419635736324209
CREATED:20211202T183106Z
LAST-MODIFIED:20211204T142020Z
URL:https://www.hastingspubliclibrary.org/news-events/calendar/read-a-thon
END:VEVENT
END:VCALENDAR
