BEGIN:VCALENDAR
VERSION:2.0
PRODID:-//Plone.org//NONSGML plone.app.event//EN
X-WR-TIMEZONE:America/New_York
BEGIN:VEVENT
SUMMARY:Oreo® Taste Test
DTSTART;TZID=America/New_York:20220307T150000
DTEND;TZID=America/New_York:20220307T180000
DTSTAMP:20260424T191232Z
UID:3f165bf880674e0e8da48f9bd014e906@saas_stack_varnish:6080
CATEGORIES:families
CONTACT:Barbara Haywood\, 269-945-4263\, bhaywood@HastingsPublicLibrary.or
 g
CREATED:20220209T191602Z
LAST-MODIFIED:20220210T155812Z
LOCATION:South End of the Community Room
URL:https://www.hastingspubliclibrary.org/news-events/calendar/oreo-r-tast
 e-test
END:VEVENT
BEGIN:VTIMEZONE
TZID:America/New_York
X-LIC-LOCATION:America/New_York
BEGIN:STANDARD
DTSTART:20211107T010000
TZNAME:EST
TZOFFSETFROM:-0400
TZOFFSETTO:-0500
END:STANDARD
END:VTIMEZONE
END:VCALENDAR
