BEGIN:VCALENDAR
VERSION:2.0
PRODID:-//Plone.org//NONSGML plone.app.event//EN
X-WR-TIMEZONE:America/New_York
BEGIN:VEVENT
SUMMARY:Oceanographer & Author Ellen Prager
DTSTART;TZID=America/New_York:20220621T190000
DTEND;TZID=America/New_York:20220621T200000
DTSTAMP:20260424T191345Z
UID:07626b5d965e4b0fb986de55c5098d60@saas_stack_varnish:6080
CATEGORIES:summer reading,families
CONTACT:Paige Brandli\, 269-945-4263\, pbrandli@hastingspubliclibrary.org\
 , https://us02web.zoom.us/j/85855248976
CREATED:20220520T172004Z
LAST-MODIFIED:20220520T172104Z
LOCATION:Zoom @ Home
URL:https://www.hastingspubliclibrary.org/news-events/calendar/oceanograph
 er-author-ellen-prager
END:VEVENT
BEGIN:VTIMEZONE
TZID:America/New_York
X-LIC-LOCATION:America/New_York
BEGIN:DAYLIGHT
DTSTART:20220313T030000
TZNAME:EDT
TZOFFSETFROM:-0500
TZOFFSETTO:-0400
END:DAYLIGHT
END:VTIMEZONE
END:VCALENDAR
