BEGIN:VCALENDAR
VERSION:2.0
PRODID:-//Plone.org//NONSGML plone.app.event//EN
X-WR-TIMEZONE:America/New_York
BEGIN:VEVENT
SUMMARY:Wonderful Water: No Family Left Indoors with HPL
DTSTART;TZID=America/New_York:20220628T193000
DTEND;TZID=America/New_York:20220628T203000
DTSTAMP:20260424T191653Z
UID:4f667bd7dd1b4894b47455800aa4064f@saas_stack_varnish:6080
CATEGORIES:families,NFLI
CONTACT:Paige Brandli\, 269-945-4263\, pbrandli@hastingspubliclibrary.org
CREATED:20220408T131743Z
LAST-MODIFIED:20220525T142348Z
LOCATION:Thornapple Plaza
URL:https://www.hastingspubliclibrary.org/news-events/calendar/no-family-l
 eft-indoors-with-hpl
END:VEVENT
BEGIN:VTIMEZONE
TZID:America/New_York
X-LIC-LOCATION:America/New_York
BEGIN:DAYLIGHT
DTSTART:20220313T030000
TZNAME:EDT
TZOFFSETFROM:-0500
TZOFFSETTO:-0400
END:DAYLIGHT
END:VTIMEZONE
END:VCALENDAR
