BEGIN:VCALENDAR
VERSION:2.0
PRODID:-//Plone.org//NONSGML plone.app.event//EN
X-WR-TIMEZONE:America/New_York
BEGIN:VEVENT
SUMMARY:Nailed It! Teen Edition
DTSTART;TZID=America/New_York:20220609T140000
DTEND;TZID=America/New_York:20220609T160000
DTSTAMP:20260424T174426Z
UID:3591a9c788e541e99bfb616f08ebc1e8@saas_stack_varnish:6080
ATTENDEE;CN="Teens in 6th to 12th grade";ROLE=REQ-PARTICIPANT:Teens in 6th
  to 12th grade
CATEGORIES:teen
CONTACT:Martha Ports\, 269-945-4263\, mports@hastingspubliclibrary.org
CREATED:20220429T165714Z
LAST-MODIFIED:20220531T154132Z
LOCATION:Thornapple Plaza
URL:https://www.hastingspubliclibrary.org/news-events/calendar/nailed-it-t
 een-edition
END:VEVENT
BEGIN:VTIMEZONE
TZID:America/New_York
X-LIC-LOCATION:America/New_York
BEGIN:DAYLIGHT
DTSTART:20220313T030000
TZNAME:EDT
TZOFFSETFROM:-0500
TZOFFSETTO:-0400
END:DAYLIGHT
END:VTIMEZONE
END:VCALENDAR
