BEGIN:VCALENDAR
VERSION:2.0
PRODID:-//Plone.org//NONSGML plone.app.event//EN
X-WR-TIMEZONE:America/New_York
BEGIN:VEVENT
SUMMARY:Mr. Jim Magic Show
DTSTART;TZID=America/New_York:20230621T150000
DTEND;TZID=America/New_York:20230621T160000
DTSTAMP:20260424T191108Z
UID:e9184f22fbee4d6f84896aec24241cf8@saas_stack_varnish:6080
CATEGORIES:families,summer reading
CONTACT:Paige Brandli\, 269-945-4263\, pbrandli@hastingspubliclibrary.org
CREATED:20230330T171914Z
LAST-MODIFIED:20230509T151535Z
LOCATION:Community Room
URL:https://www.hastingspubliclibrary.org/news-events/calendar/mr-jim-magi
 c-show
END:VEVENT
BEGIN:VTIMEZONE
TZID:America/New_York
X-LIC-LOCATION:America/New_York
BEGIN:DAYLIGHT
DTSTART:20230312T030000
TZNAME:EDT
TZOFFSETFROM:-0500
TZOFFSETTO:-0400
END:DAYLIGHT
END:VTIMEZONE
END:VCALENDAR
