BEGIN:VCALENDAR
VERSION:2.0
PRODID:-//Plone.org//NONSGML plone.app.event//EN
X-WR-TIMEZONE:America/New_York
BEGIN:VEVENT
SUMMARY:Movie Memories & Milestones
DTSTART;TZID=America/New_York:20190905T180000
DTEND;TZID=America/New_York:20190905T210000
DTSTAMP:20260422T140302Z
UID:998a754731b34ffaa2b6f23481cf940b@saas_stack_varnish:6080
RRULE:FREQ=WEEKLY;UNTIL=20201202T000000;BYDAY=TH
EXDATE;TZID=America/New_York:20191128T000000,20200312T000000,20200312T0000
 00,20200319T000000,20200319T000000,20200326T000000,20200326T000000,2020040
 2T000000,20200402T000000,20200409T000000,20200416T000000,20200423T000000,2
 0200430T000000,20200507T000000,20200514T000000,20200521T000000,20200528T00
 0000,20200604T000000,20200611T000000,20200618T000000,20200625T000000,20200
 702T000000,20200709T000000,20200716T000000,20200723T000000,20200730T000000
 ,20200806T000000,20200813T000000,20200820T000000,20200827T000000,20200903T
 000000,20200910T000000,20200917T000000,20200924T000000,20201001T000000,202
 01008T000000,20201015T000000,20201022T000000,20201029T000000,20201105T0000
 00,20201112T000000,20201119T000000,20201126T000000,20201203T000000
CATEGORIES:movie,adult
CREATED:20190903T184136Z
DESCRIPTION:Watch classic movies from the 1930s through the 1960s with fel
 low movie fans. Learn about the stars\, studios and more.
LAST-MODIFIED:20200731T170601Z
LOCATION:Community Room
URL:https://www.hastingspubliclibrary.org/news-events/calendar/movie-memor
 ies-milestones
END:VEVENT
BEGIN:VTIMEZONE
TZID:America/New_York
X-LIC-LOCATION:America/New_York
BEGIN:DAYLIGHT
DTSTART:20190310T030000
TZNAME:EDT
TZOFFSETFROM:-0500
TZOFFSETTO:-0400
END:DAYLIGHT
END:VTIMEZONE
END:VCALENDAR
