BEGIN:VCALENDAR
VERSION:2.0
PRODID:-//Plone.org//NONSGML plone.app.event//EN
X-WR-TIMEZONE:America/New_York
BEGIN:VEVENT
SUMMARY:Michigan Lake Monsters and Odd Creatures of the Great Lakes
DTSTART;TZID=America/New_York:20220718T190000
DTEND;TZID=America/New_York:20220718T200000
DTSTAMP:20260424T191633Z
UID:a46fe6ba4649429189c6cbd1583a7756@saas_stack_varnish:6080
CATEGORIES:summer reading,families
CONTACT:Barbara Haywood\, 269-945-4263\, bhaywood@HastingsPublicLibrary.or
 g
CREATED:20220608T165611Z
LAST-MODIFIED:20220616T211848Z
LOCATION:Zoom from home or in our Community Room
URL:https://www.hastingspubliclibrary.org/news-events/calendar/michigan-la
 ke-monsters-and-other-odd-creatures
END:VEVENT
BEGIN:VTIMEZONE
TZID:America/New_York
X-LIC-LOCATION:America/New_York
BEGIN:DAYLIGHT
DTSTART:20220313T030000
TZNAME:EDT
TZOFFSETFROM:-0500
TZOFFSETTO:-0400
END:DAYLIGHT
END:VTIMEZONE
END:VCALENDAR
