BEGIN:VCALENDAR
VERSION:2.0
PRODID:-//Plone.org//NONSGML plone.app.event//EN
X-WR-TIMEZONE:America/New_York
BEGIN:VEVENT
SUMMARY:Marvel Artist: Jerry Decaire
DTSTART;TZID=America/New_York:20220720T150000
DTEND;TZID=America/New_York:20220720T160000
DTSTAMP:20260424T191238Z
UID:29e28e3a4ff7475b9c2a91b90881685f@saas_stack_varnish:6080
CATEGORIES:summer reading,families
CONTACT:Paige Brandli\, 269-945-4263\, pbrandli@hastingspubliclibrary.org
CREATED:20220520T180014Z
LAST-MODIFIED:20220520T180021Z
LOCATION:Community Room
URL:https://www.hastingspubliclibrary.org/news-events/calendar/marvel-arti
 st-jerry-decaire
END:VEVENT
BEGIN:VTIMEZONE
TZID:America/New_York
X-LIC-LOCATION:America/New_York
BEGIN:DAYLIGHT
DTSTART:20220313T030000
TZNAME:EDT
TZOFFSETFROM:-0500
TZOFFSETTO:-0400
END:DAYLIGHT
END:VTIMEZONE
END:VCALENDAR
