BEGIN:VCALENDAR
VERSION:2.0
PRODID:-//Plone.org//NONSGML plone.app.event//EN
X-WR-TIMEZONE:America/New_York
BEGIN:VEVENT
SUMMARY:Last Day to Pick Up 2024 Summer Reading Prizes
DTSTART;VALUE=DATE:20240824
DTEND;VALUE=DATE:20240825
DTSTAMP:20260422T140754Z
UID:11a0e08d1e9a48f5be20002575c2a7a8@saas_stack_varnish:6080
CATEGORIES:summer reading
CREATED:20240405T182126Z
LAST-MODIFIED:20240610T170714Z
URL:https://www.hastingspubliclibrary.org/news-events/calendar/last-day-to
 -pick-up-2024-summer-reading-prizes
END:VEVENT
END:VCALENDAR
