BEGIN:VCALENDAR
VERSION:2.0
PRODID:-//Plone.org//NONSGML plone.app.event//EN
X-WR-TIMEZONE:America/New_York
BEGIN:VEVENT
SUMMARY:January Series 2024
DTSTART;TZID=America/New_York:20240115T123000
DTEND;TZID=America/New_York:20240115T133000
DTSTAMP:20260424T203229Z
UID:3c9a7ba2929d4b9ea91173ee971c7215@saas_stack_varnish:6080
RRULE:FREQ=WEEKLY;UNTIL=20240202T000000;BYDAY=MO,TU,WE,TH,FR
CATEGORIES:january series
CONTACT:Barbara Haywood\, 269-945-4263\, bhaywood@hastingspubliclibrary.or
 g
CREATED:20231010T121909Z
LAST-MODIFIED:20231010T121926Z
LOCATION:Community Room
URL:https://www.hastingspubliclibrary.org/news-events/calendar/january-ser
 ies-2024
END:VEVENT
BEGIN:VTIMEZONE
TZID:America/New_York
X-LIC-LOCATION:America/New_York
BEGIN:STANDARD
DTSTART:20231105T010000
TZNAME:EST
TZOFFSETFROM:-0400
TZOFFSETTO:-0500
END:STANDARD
END:VTIMEZONE
END:VCALENDAR
