BEGIN:VCALENDAR
VERSION:2.0
PRODID:-//Plone.org//NONSGML plone.app.event//EN
X-WR-TIMEZONE:America/New_York
BEGIN:VEVENT
SUMMARY:I Survived Escape Room 2023 - Saturday
DTSTART;TZID=America/New_York:20230624T103000
DTEND;TZID=America/New_York:20230624T160000
DTSTAMP:20260424T191535Z
UID:fe2411becd9a445cbcb567e41bfbebfa@saas_stack_varnish:6080
ATTENDEE;CN="Families, adults, teens - anyone ages 8 and up";ROLE=REQ-PART
 ICIPANT:Families, adults, teens - anyone ages 8 and up
CATEGORIES:families,summer reading
CONTACT:Paige Brandli\, 269-945-4263\, pbrandli@hastingspubliclibrary.org
CREATED:20230414T155942Z
LAST-MODIFIED:20230606T190634Z
LOCATION:Community Room
URL:https://www.hastingspubliclibrary.org/news-events/calendar/i-survived-
 escape-room-2023-saturday
END:VEVENT
BEGIN:VTIMEZONE
TZID:America/New_York
X-LIC-LOCATION:America/New_York
BEGIN:DAYLIGHT
DTSTART:20230312T030000
TZNAME:EDT
TZOFFSETFROM:-0500
TZOFFSETTO:-0400
END:DAYLIGHT
END:VTIMEZONE
END:VCALENDAR
