BEGIN:VCALENDAR
VERSION:2.0
PRODID:-//Plone.org//NONSGML plone.app.event//EN
X-WR-TIMEZONE:America/New_York
BEGIN:VEVENT
SUMMARY:HPL 125th Anniversary Party
DTSTART;TZID=America/New_York:20210807T150000
DTEND;TZID=America/New_York:20210807T170000
DTSTAMP:20260424T191355Z
UID:96d9d7161e404ca38054e3586ebadd6f@saas_stack_varnish:6080
CATEGORIES:anniversary,families
CONTACT:Barbara Haywood\, 269-945-4263\, bhaywood@HastingsPublicLibrary.or
 g
CREATED:20210713T170027Z
DESCRIPTION:Celebrate Hastings Public Library's 125th Anniversary!
LAST-MODIFIED:20210715T133640Z
LOCATION:Thornapple Plaza\, across from HPL
URL:https://www.hastingspubliclibrary.org/news-events/calendar/hpl-125th-a
 nniversary-party
END:VEVENT
BEGIN:VTIMEZONE
TZID:America/New_York
X-LIC-LOCATION:America/New_York
BEGIN:DAYLIGHT
DTSTART:20210314T030000
TZNAME:EDT
TZOFFSETFROM:-0500
TZOFFSETTO:-0400
END:DAYLIGHT
END:VTIMEZONE
END:VCALENDAR
