BEGIN:VCALENDAR
VERSION:2.0
PRODID:-//Plone.org//NONSGML plone.app.event//EN
X-WR-TIMEZONE:America/New_York
BEGIN:VEVENT
SUMMARY:Gamequest - 12 Hours of Gaming 2023
DTSTART;TZID=America/New_York:20230520T100000
DTEND;TZID=America/New_York:20230520T220000
DTSTAMP:20260424T174344Z
UID:2d5db6bfe7a149d8b134a1809bdbb71d@saas_stack_varnish:6080
CATEGORIES:gaming,teen
CONTACT:Barbara Haywood\, 269-945-4263\, bhaywood@hastingspubliclibrary.or
 g
CREATED:20230509T173953Z
LAST-MODIFIED:20230509T174119Z
LOCATION:Community Room
URL:https://www.hastingspubliclibrary.org/news-events/calendar/gamequest-1
 2-hours-of-gaming
END:VEVENT
BEGIN:VTIMEZONE
TZID:America/New_York
X-LIC-LOCATION:America/New_York
BEGIN:DAYLIGHT
DTSTART:20230312T030000
TZNAME:EDT
TZOFFSETFROM:-0500
TZOFFSETTO:-0400
END:DAYLIGHT
END:VTIMEZONE
END:VCALENDAR
