BEGIN:VCALENDAR
VERSION:2.0
PRODID:-//Plone.org//NONSGML plone.app.event//EN
X-WR-TIMEZONE:America/New_York
BEGIN:VEVENT
SUMMARY:Galactic Zoo in the Sky - Rescheduled
DTSTART;TZID=America/New_York:20220817T213000
DTEND;TZID=America/New_York:20220817T230000
DTSTAMP:20260424T191355Z
UID:74d5341ebf4848bdafa66a3e06fbcb52@saas_stack_varnish:6080
ATTENDEE;CN="All ages";ROLE=REQ-PARTICIPANT:All ages
CATEGORIES:families
CONTACT:Barbara Haywood\, 269-945-4263\, bhaywood@HastingsPublicLibrary.or
 g\, https://www.facebook.com/events/808704413826861
CREATED:20220805T153856Z
LAST-MODIFIED:20220813T002640Z
LOCATION:Pierce Cedar Creek Institute (701 W. Cloverdale Rd\, Hastings\, M
 I 49058)
URL:https://www.hastingspubliclibrary.org/news-events/calendar/galactic-zo
 o-in-the-sky
END:VEVENT
BEGIN:VTIMEZONE
TZID:America/New_York
X-LIC-LOCATION:America/New_York
BEGIN:DAYLIGHT
DTSTART:20220313T030000
TZNAME:EDT
TZOFFSETFROM:-0500
TZOFFSETTO:-0400
END:DAYLIGHT
END:VTIMEZONE
END:VCALENDAR
