BEGIN:VCALENDAR
VERSION:2.0
PRODID:-//Plone.org//NONSGML plone.app.event//EN
X-WR-TIMEZONE:America/New_York
BEGIN:VEVENT
SUMMARY:Foam Party!
DTSTART;TZID=America/New_York:20220705T150000
DTEND;TZID=America/New_York:20220705T160000
DTSTAMP:20260424T191427Z
UID:fea78267de3c43ca928807766e0297e9@saas_stack_varnish:6080
CATEGORIES:summer reading,families
CONTACT:Paige Brandli\, 269-945-4263\, pbrandli@hastingspubliclibrary.org
CREATED:20220520T173922Z
LAST-MODIFIED:20220525T164725Z
LOCATION:Thornapple Plaza
URL:https://www.hastingspubliclibrary.org/news-events/calendar/foam-party-
 with-stormy
END:VEVENT
BEGIN:VTIMEZONE
TZID:America/New_York
X-LIC-LOCATION:America/New_York
BEGIN:DAYLIGHT
DTSTART:20220313T030000
TZNAME:EDT
TZOFFSETFROM:-0500
TZOFFSETTO:-0400
END:DAYLIGHT
END:VTIMEZONE
END:VCALENDAR
