BEGIN:VCALENDAR
VERSION:2.0
PRODID:-//Plone.org//NONSGML plone.app.event//EN
X-WR-TIMEZONE:America/New_York
BEGIN:VEVENT
SUMMARY:Save Me From Money Worries - Finance 101 with TCU and HPL
DTSTART;TZID=America/New_York:20210309T190000
DTEND;TZID=America/New_York:20210309T200000
DTSTAMP:20260424T174154Z
UID:873d56159b3948c69e676368cfb4d9c7@saas_stack_varnish:6080
RRULE:FREQ=MONTHLY;UNTIL=20211215T000000;BYDAY=+2TU
CATEGORIES:virtual event,zoom,finances,adults,teen
CONTACT:Barbara Haywood\, 269-945-4263\, bhaywood@HastingsPublicLibrary.or
 g\, https://us02web.zoom.us/meeting/tZMvdO-pqzMrGdGkOhN25Z33g1UfCM0u1lk_/i
 cs?icsToken=98tyKuGvrDgsG9GdsRqCRpwEAIjCM-vwmFxcjad6lzDtLXIGWFClMbN3NJFSQM
 2B
CREATED:20210218T191059Z
DESCRIPTION:Learn financial basics with Thornapple Credit Union and Hastin
 gs Public Library
LAST-MODIFIED:20210218T194705Z
LOCATION:Zoom
URL:https://www.hastingspubliclibrary.org/news-events/calendar/finance-101
 -with-tcu-and-hpl
END:VEVENT
BEGIN:VTIMEZONE
TZID:America/New_York
X-LIC-LOCATION:America/New_York
BEGIN:STANDARD
DTSTART:20201101T010000
TZNAME:EST
TZOFFSETFROM:-0400
TZOFFSETTO:-0500
END:STANDARD
END:VTIMEZONE
END:VCALENDAR
