BEGIN:VCALENDAR
VERSION:2.0
PRODID:-//Plone.org//NONSGML plone.app.event//EN
X-WR-TIMEZONE:America/New_York
BEGIN:VEVENT
SUMMARY:Fighter Pilot James P. Dibble - Veteran's Day Program
DTSTART;TZID=America/New_York:20221107T183000
DTEND;TZID=America/New_York:20221107T200000
DTSTAMP:20260420T135741Z
UID:a555885da2624177b1fb6f9e738aa737@saas_stack_varnish:6080
CONTACT:David Edelman\, 269-945-4263\, dedelman@hastingspubliclibrary.org
CREATED:20220810T152209Z
LAST-MODIFIED:20220926T161157Z
LOCATION:Community Room
URL:https://www.hastingspubliclibrary.org/news-events/calendar/fighter-pil
 ot-james-p-dibble-veterans-day-program
END:VEVENT
BEGIN:VTIMEZONE
TZID:America/New_York
X-LIC-LOCATION:America/New_York
BEGIN:STANDARD
DTSTART:20221106T010000
TZNAME:EST
TZOFFSETFROM:-0400
TZOFFSETTO:-0500
END:STANDARD
END:VTIMEZONE
END:VCALENDAR
