BEGIN:VCALENDAR
VERSION:2.0
PRODID:-//Plone.org//NONSGML plone.app.event//EN
X-WR-TIMEZONE:America/New_York
BEGIN:VEVENT
SUMMARY:Family Science Night
DTSTART;TZID=America/New_York:20230208T180000
DTEND;TZID=America/New_York:20230208T193000
DTSTAMP:20260424T174010Z
UID:263d9e5f5b824811b31f072d2c0f9738@saas_stack_varnish:6080
CATEGORIES:families,science
CONTACT:Paige Brandli\, 269-945-4263\, pbrandli@hastingspubliclibrary.org
CREATED:20221108T151132Z
LAST-MODIFIED:20230109T201031Z
LOCATION:Entire Library
URL:https://www.hastingspubliclibrary.org/news-events/calendar/family-scie
 nce-night-1
END:VEVENT
BEGIN:VTIMEZONE
TZID:America/New_York
X-LIC-LOCATION:America/New_York
BEGIN:STANDARD
DTSTART:20221106T010000
TZNAME:EST
TZOFFSETFROM:-0400
TZOFFSETTO:-0500
END:STANDARD
END:VTIMEZONE
END:VCALENDAR
