BEGIN:VCALENDAR
VERSION:2.0
PRODID:-//Plone.org//NONSGML plone.app.event//EN
X-WR-TIMEZONE:America/New_York
BEGIN:VEVENT
SUMMARY:Family Promise Partnership for Warmth - Jan 2023
DTSTART;TZID=America/New_York:20230111T150000
DTEND;TZID=America/New_York:20230111T180000
DTSTAMP:20260424T174548Z
UID:451b1b227f334c77b5966db31d288c97@saas_stack_varnish:6080
CATEGORIES:families,homeless
CONTACT:Paige Brandli\, 269-945-4263\, pbrandli@hastingspubliclibrary.org
CREATED:20221228T141250Z
LAST-MODIFIED:20230109T155404Z
LOCATION:Community Room
URL:https://www.hastingspubliclibrary.org/news-events/calendar/family-prom
 ise-partnership-for-warmth-jan-2023
END:VEVENT
BEGIN:VTIMEZONE
TZID:America/New_York
X-LIC-LOCATION:America/New_York
BEGIN:STANDARD
DTSTART:20221106T010000
TZNAME:EST
TZOFFSETFROM:-0400
TZOFFSETTO:-0500
END:STANDARD
END:VTIMEZONE
END:VCALENDAR
