BEGIN:VCALENDAR
VERSION:2.0
PRODID:-//Plone.org//NONSGML plone.app.event//EN
X-WR-TIMEZONE:America/New_York
BEGIN:VEVENT
SUMMARY:Family Movie for Spring Break
DTSTART;TZID=America/New_York:20230406T110000
DTEND;TZID=America/New_York:20230406T130000
DTSTAMP:20260420T054858Z
UID:a8901226302242a1a01afe0fa5958bee@saas_stack_varnish:6080
CONTACT:Paige Brandli\, 269-945-4263\, pbrandli@hastingspubliclibrary.org
CREATED:20230113T141939Z
LAST-MODIFIED:20230316T174300Z
LOCATION:Community Room
URL:https://www.hastingspubliclibrary.org/news-events/calendar/family-movi
 e-for-spring-break
END:VEVENT
BEGIN:VTIMEZONE
TZID:America/New_York
X-LIC-LOCATION:America/New_York
BEGIN:DAYLIGHT
DTSTART:20230312T030000
TZNAME:EDT
TZOFFSETFROM:-0500
TZOFFSETTO:-0400
END:DAYLIGHT
END:VTIMEZONE
END:VCALENDAR
