BEGIN:VCALENDAR
VERSION:2.0
PRODID:-//Plone.org//NONSGML plone.app.event//EN
X-WR-TIMEZONE:America/New_York
BEGIN:VEVENT
SUMMARY:Family Map Making Night
DTSTART;TZID=America/New_York:20220712T190000
DTEND;TZID=America/New_York:20220712T203000
DTSTAMP:20260424T173814Z
UID:17ca6795574b4809b532dc4d577780f4@saas_stack_varnish:6080
CATEGORIES:summer reading,families
CONTACT:Barbara Haywood\, 269-945-4263\, bhaywood@HastingsPublicLibrary.or
 g
CREATED:20220520T174446Z
LAST-MODIFIED:20220520T174511Z
LOCATION:Community Room
URL:https://www.hastingspubliclibrary.org/news-events/calendar/family-map-
 making-night
END:VEVENT
BEGIN:VTIMEZONE
TZID:America/New_York
X-LIC-LOCATION:America/New_York
BEGIN:DAYLIGHT
DTSTART:20220313T030000
TZNAME:EDT
TZOFFSETFROM:-0500
TZOFFSETTO:-0400
END:DAYLIGHT
END:VTIMEZONE
END:VCALENDAR
