BEGIN:VCALENDAR
VERSION:2.0
PRODID:-//Plone.org//NONSGML plone.app.event//EN
X-WR-TIMEZONE:America/New_York
BEGIN:VEVENT
SUMMARY:Eclipse Viewing @ HPL
DTSTART;TZID=America/New_York:20240408T153000
DTEND;TZID=America/New_York:20240408T163000
DTSTAMP:20260424T173319Z
UID:cdfb2f6e7d534bceaa64efd47312f2eb@saas_stack_varnish:6080
CATEGORIES:families,science
CONTACT:Barbara Haywood\, 269-945-4263\, bhaywood@hastingspubliclibrary.or
 g
CREATED:20240215T203251Z
LAST-MODIFIED:20240215T203314Z
LOCATION:Community Room
URL:https://www.hastingspubliclibrary.org/news-events/calendar/eclipse-vie
 wing-hpl
END:VEVENT
BEGIN:VTIMEZONE
TZID:America/New_York
X-LIC-LOCATION:America/New_York
BEGIN:DAYLIGHT
DTSTART:20240310T030000
TZNAME:EDT
TZOFFSETFROM:-0500
TZOFFSETTO:-0400
END:DAYLIGHT
END:VTIMEZONE
END:VCALENDAR
