BEGIN:VCALENDAR
VERSION:2.0
PRODID:-//Plone.org//NONSGML plone.app.event//EN
X-WR-TIMEZONE:America/New_York
BEGIN:VEVENT
SUMMARY:Eclipse Safety for Families
DTSTART;TZID=America/New_York:20240403T110000
DTEND;TZID=America/New_York:20240403T130000
DTSTAMP:20260424T174154Z
UID:c802e4fd2f29428aa51ba92ef8d51f49@saas_stack_varnish:6080
CATEGORIES:families,science
CONTACT:Erin Quada\, 269-945-4263\, equada@hastingspubliclibrary.org
CREATED:20240208T211157Z
LAST-MODIFIED:20240329T194049Z
LOCATION:Community Room
URL:https://www.hastingspubliclibrary.org/news-events/calendar/eclipse-saf
 ety-for-families-1
END:VEVENT
BEGIN:VTIMEZONE
TZID:America/New_York
X-LIC-LOCATION:America/New_York
BEGIN:DAYLIGHT
DTSTART:20240310T030000
TZNAME:EDT
TZOFFSETFROM:-0500
TZOFFSETTO:-0400
END:DAYLIGHT
END:VTIMEZONE
END:VCALENDAR
