BEGIN:VCALENDAR
VERSION:2.0
PRODID:-//Plone.org//NONSGML plone.app.event//EN
X-WR-TIMEZONE:America/New_York
BEGIN:VEVENT
SUMMARY:Earth Day Movie Screening: YOUTH v GOV
DTSTART;TZID=America/New_York:20220422T163000
DTEND;TZID=America/New_York:20220422T183000
DTSTAMP:20260424T174548Z
UID:2d44e67f3ee04ca28335c97aa67ecc1f@saas_stack_varnish:6080
CATEGORIES:earth day,families,climate change
CONTACT:Barbara Haywood\, 269-945-4263\, bhaywood@HastingsPublicLibrary.or
 g
CREATED:20220328T140635Z
LAST-MODIFIED:20220328T140751Z
LOCATION:Community Room
URL:https://www.hastingspubliclibrary.org/news-events/calendar/earth-day-m
 ovie-screening-youth-v-gov
END:VEVENT
BEGIN:VTIMEZONE
TZID:America/New_York
X-LIC-LOCATION:America/New_York
BEGIN:DAYLIGHT
DTSTART:20220313T030000
TZNAME:EDT
TZOFFSETFROM:-0500
TZOFFSETTO:-0400
END:DAYLIGHT
END:VTIMEZONE
END:VCALENDAR
