BEGIN:VCALENDAR
VERSION:2.0
PRODID:-//Plone.org//NONSGML plone.app.event//EN
X-WR-TIMEZONE:America/New_York
BEGIN:VEVENT
SUMMARY:Crafting Passions
DTSTART;TZID=America/New_York:20210712T110000
DTEND;TZID=America/New_York:20210712T150000
DTSTAMP:20260425T120653Z
UID:1ce5780f130a48b49abb183f9e90b159@saas_stack_varnish:6080
RRULE:FREQ=WEEKLY;UNTIL=20221223T000000
EXDATE;TZID=America/New_York:20211227T000000,20220530T000000,20220704T0000
 00
CATEGORIES:Quilting,crafts,adult
CREATED:20190903T182414Z
DESCRIPTION:Learn about or simply spend time quilting with others who enjo
 y the same passion.
LAST-MODIFIED:20221207T135847Z
LOCATION:Community Room
URL:https://www.hastingspubliclibrary.org/news-events/calendar/crafting-pa
 ssions
END:VEVENT
BEGIN:VTIMEZONE
TZID:America/New_York
X-LIC-LOCATION:America/New_York
BEGIN:DAYLIGHT
DTSTART:20210314T030000
TZNAME:EDT
TZOFFSETFROM:-0500
TZOFFSETTO:-0400
END:DAYLIGHT
END:VTIMEZONE
END:VCALENDAR
