BEGIN:VCALENDAR
VERSION:2.0
PRODID:-//Plone.org//NONSGML plone.app.event//EN
X-WR-TIMEZONE:America/New_York
BEGIN:VEVENT
SUMMARY:Crafting Passions 2024
DTSTART;TZID=America/New_York:20240108T100000
DTEND;TZID=America/New_York:20240108T140000
DTSTAMP:20260421T091426Z
UID:6a5b60c182c54ebea0389bbc2ac6382c@saas_stack_varnish:6080
RRULE:FREQ=WEEKLY;UNTIL=20241230T000000;BYDAY=MO
EXDATE;TZID=America/New_York:20211227T000000,20220530T000000,20220704T0000
 00,20230529T000000,20230703T000000,20240527T000000,20240902T000000
CATEGORIES:Quilting,crafts,adult
CREATED:20190903T182414Z
LAST-MODIFIED:20231110T140722Z
LOCATION:Community Room
URL:https://www.hastingspubliclibrary.org/news-events/calendar/crafting-pa
 ssions%202024
END:VEVENT
BEGIN:VTIMEZONE
TZID:America/New_York
X-LIC-LOCATION:America/New_York
BEGIN:STANDARD
DTSTART:20231105T010000
TZNAME:EST
TZOFFSETFROM:-0400
TZOFFSETTO:-0500
END:STANDARD
END:VTIMEZONE
END:VCALENDAR
