BEGIN:VCALENDAR
VERSION:2.0
PRODID:-//Plone.org//NONSGML plone.app.event//EN
X-WR-TIMEZONE:America/New_York
BEGIN:VEVENT
SUMMARY:Crafting Passions 2023
DTSTART;TZID=America/New_York:20230109T100000
DTEND;TZID=America/New_York:20230109T140000
DTSTAMP:20260419T213052Z
UID:71290fac03e24cc9976c8e119d332c94@saas_stack_varnish:6080
RRULE:FREQ=WEEKLY;UNTIL=20231222T000000;BYDAY=MO
EXDATE;TZID=America/New_York:20211227T000000,20220530T000000,20220704T0000
 00,20230529T000000,20230703T000000
CATEGORIES:Quilting,crafts,adult
CREATED:20190903T182414Z
LAST-MODIFIED:20230509T193031Z
LOCATION:Community Room
URL:https://www.hastingspubliclibrary.org/news-events/calendar/crafting-pa
 ssions%202023
END:VEVENT
BEGIN:VTIMEZONE
TZID:America/New_York
X-LIC-LOCATION:America/New_York
BEGIN:STANDARD
DTSTART:20221106T010000
TZNAME:EST
TZOFFSETFROM:-0400
TZOFFSETTO:-0500
END:STANDARD
END:VTIMEZONE
END:VCALENDAR
