BEGIN:VCALENDAR
VERSION:2.0
PRODID:-//Plone.org//NONSGML plone.app.event//EN
X-WR-TIMEZONE:America/New_York
BEGIN:VEVENT
SUMMARY:Crafting Passions 2023
DTSTART;TZID=America/New_York:20230320T100000
DTEND;TZID=America/New_York:20230320T140000
DTSTAMP:20260419T194705Z
UID:71290fac03e24cc9976c8e119d332c94@saas_stack_varnish:6080
CATEGORIES:Quilting,crafts,adult
CREATED:20190903T182414Z
LAST-MODIFIED:20230509T193031Z
LOCATION:Community Room
URL:https://www.hastingspubliclibrary.org/news-events/calendar/crafting-pa
 ssions%202023/2023-03-20
END:VEVENT
BEGIN:VTIMEZONE
TZID:America/New_York
X-LIC-LOCATION:America/New_York
BEGIN:DAYLIGHT
DTSTART:20230312T030000
TZNAME:EDT
TZOFFSETFROM:-0500
TZOFFSETTO:-0400
END:DAYLIGHT
END:VTIMEZONE
END:VCALENDAR
