BEGIN:VCALENDAR
VERSION:2.0
PRODID:-//Plone.org//NONSGML plone.app.event//EN
X-WR-TIMEZONE:America/New_York
BEGIN:VEVENT
SUMMARY:Virtual Science Storytime - Stellar Stars and Cosmic Constellation
 s
DTSTART;TZID=America/New_York:20200728T113000
DTEND;TZID=America/New_York:20200728T123000
DTSTAMP:20260422T221918Z
UID:8739f8e79a8e4a3699182dca450f9a0f@saas_stack_varnish:6080
ATTENDEE;CN="Although open to all ages, this storytime is geared towards t
 oddlers through early elementary.";ROLE=REQ-PARTICIPANT:Although open to a
 ll ages, this storytime is geared towards toddlers through early elementar
 y.
CATEGORIES:story time,kids
CONTACT:Paige Brandli\, pbrandli@hastingspubliclibrary.org\, https://us02w
 eb.zoom.us/webinar/register/5415900690491/WN_gg2SnSZnReSry87OHpxBpA
CREATED:20200602T121236Z
LAST-MODIFIED:20200609T193853Z
LOCATION:Zoom
URL:https://www.hastingspubliclibrary.org/news-events/calendar/copy4_of_sc
 ience-storytime-rocks-rock
END:VEVENT
BEGIN:VTIMEZONE
TZID:America/New_York
X-LIC-LOCATION:America/New_York
BEGIN:DAYLIGHT
DTSTART:20200308T030000
TZNAME:EDT
TZOFFSETFROM:-0500
TZOFFSETTO:-0400
END:DAYLIGHT
END:VTIMEZONE
END:VCALENDAR
