BEGIN:VCALENDAR
VERSION:2.0
PRODID:-//Plone.org//NONSGML plone.app.event//EN
X-WR-TIMEZONE:America/New_York
BEGIN:VEVENT
SUMMARY:Computer Basics (Windows 10) - Digital Literacy Class
DTSTART;TZID=America/New_York:20230301T140000
DTEND;TZID=America/New_York:20230301T153000
DTSTAMP:20260421T043303Z
UID:7077718691f24a8495fb2c2bbbe21be6@saas_stack_varnish:6080
CONTACT:David Edelman\, 269-945-4263\, dedelman@hastingspubliclibrary.org
CREATED:20220831T144026Z
LAST-MODIFIED:20221201T203029Z
LOCATION:Community Room
URL:https://www.hastingspubliclibrary.org/news-events/calendar/computer-ba
 sics-digital-literacy-class
END:VEVENT
BEGIN:VTIMEZONE
TZID:America/New_York
X-LIC-LOCATION:America/New_York
BEGIN:STANDARD
DTSTART:20221106T010000
TZNAME:EST
TZOFFSETFROM:-0400
TZOFFSETTO:-0500
END:STANDARD
END:VTIMEZONE
END:VCALENDAR
