BEGIN:VCALENDAR
VERSION:2.0
PRODID:-//Plone.org//NONSGML plone.app.event//EN
X-WR-TIMEZONE:America/New_York
BEGIN:VEVENT
SUMMARY:Book Sale\, Friends of HPL\, Sat Jul 2024
DTSTART;TZID=America/New_York:20240720T090000
DTEND;TZID=America/New_York:20240720T120000
DTSTAMP:20260424T132924Z
UID:3a237f4d49614d5b8ae3496a305b4ab2@saas_stack_varnish:6080
CATEGORIES:book sale
CONTACT:Peggy Hemerling\, 269-945-4263\, phemerling@hastingspubliclibrary.
 org
CREATED:20240405T150727Z
LAST-MODIFIED:20240610T170255Z
LOCATION:Community Room
URL:https://www.hastingspubliclibrary.org/news-events/calendar/book-sale-f
 riends-of-hpl-sat-jul-2024
END:VEVENT
BEGIN:VTIMEZONE
TZID:America/New_York
X-LIC-LOCATION:America/New_York
BEGIN:DAYLIGHT
DTSTART:20240310T030000
TZNAME:EDT
TZOFFSETFROM:-0500
TZOFFSETTO:-0400
END:DAYLIGHT
END:VTIMEZONE
END:VCALENDAR
