BEGIN:VCALENDAR
VERSION:2.0
PRODID:-//Plone.org//NONSGML plone.app.event//EN
X-WR-TIMEZONE:America/New_York
BEGIN:VEVENT
SUMMARY:Book Sale Donations Accepted July 12-16\, 2024
DTSTART;VALUE=DATE:20240712
DTEND;VALUE=DATE:20240713
DTSTAMP:20260422T211341Z
UID:4e7c666a3706463d9a1abcdbe2aa1022@saas_stack_varnish:6080
RRULE:FREQ=DAILY;UNTIL=20240716T000000
EXDATE;TZID=America/New_York:20240714T000000
CATEGORIES:book sale
CONTACT:Peggy Hemerling\, 269-945-4263\, phemerling@hastingspubliclibrary.
 org
CREATED:20240405T150727Z
LAST-MODIFIED:20240610T165957Z
LOCATION:Community Room
URL:https://www.hastingspubliclibrary.org/news-events/calendar/book-sale-d
 onations-accepted-july-12-to-16-2024
END:VEVENT
END:VCALENDAR
