BEGIN:VCALENDAR
VERSION:2.0
PRODID:-//Plone.org//NONSGML plone.app.event//EN
X-WR-TIMEZONE:America/New_York
BEGIN:VEVENT
SUMMARY:Book Making
DTSTART;TZID=America/New_York:20240110T173000
DTEND;TZID=America/New_York:20240110T190000
DTSTAMP:20260424T155443Z
UID:a5361f8ad75243f4ae1fad58b925aaf5@saas_stack_varnish:6080
ATTENDEE;CN="Adults and Teens 13+";ROLE=REQ-PARTICIPANT:Adults and Teens 1
 3+
CATEGORIES:adults,teen,crafts
CONTACT:Emma Seif\, 269-945-4263\, eseif@hastingspubliclibrary.org
CREATED:20231218T185416Z
LAST-MODIFIED:20231226T165632Z
LOCATION:Community Room
URL:https://www.hastingspubliclibrary.org/news-events/calendar/book-making
END:VEVENT
BEGIN:VTIMEZONE
TZID:America/New_York
X-LIC-LOCATION:America/New_York
BEGIN:STANDARD
DTSTART:20231105T010000
TZNAME:EST
TZOFFSETFROM:-0400
TZOFFSETTO:-0500
END:STANDARD
END:VTIMEZONE
END:VCALENDAR
