BEGIN:VCALENDAR
VERSION:2.0
PRODID:-//Plone.org//NONSGML plone.app.event//EN
X-WR-TIMEZONE:America/New_York
BEGIN:VEVENT
SUMMARY:Book Making for Teens
DTSTART;TZID=America/New_York:20230308T153000
DTEND;TZID=America/New_York:20230308T163000
DTSTAMP:20260424T173651Z
UID:f07fbcbe41194babb8c703a4b02a031d@saas_stack_varnish:6080
ATTENDEE;CN="Teens age 13-19";ROLE=REQ-PARTICIPANT:Teens age 13-19
CATEGORIES:teen
CONTACT:Emma Seif\, 269-945-4263\, eseif@hastingspubliclibrary.org
CREATED:20230202T154143Z
LAST-MODIFIED:20230221T133527Z
LOCATION:Community Room
URL:https://www.hastingspubliclibrary.org/news-events/calendar/book-making
 -for-teens
END:VEVENT
BEGIN:VTIMEZONE
TZID:America/New_York
X-LIC-LOCATION:America/New_York
BEGIN:STANDARD
DTSTART:20221106T010000
TZNAME:EST
TZOFFSETFROM:-0400
TZOFFSETTO:-0500
END:STANDARD
END:VTIMEZONE
END:VCALENDAR
