BEGIN:VCALENDAR
VERSION:2.0
PRODID:-//Plone.org//NONSGML plone.app.event//EN
X-WR-TIMEZONE:America/New_York
BEGIN:VEVENT
SUMMARY:Boba and Beads
DTSTART;TZID=America/New_York:20240709T140000
DTEND;TZID=America/New_York:20240709T150000
DTSTAMP:20260424T155825Z
UID:b9fbacf83939445d98698a9fd94d165e@saas_stack_varnish:6080
ATTENDEE;CN="anyone in grades 6-12";ROLE=REQ-PARTICIPANT:anyone in grades 
 6-12
CATEGORIES:summer reading,teen
CONTACT:Lake Seif\, 269-945-4263\, lseif@hastingspubliclibrary.org
CREATED:20240405T134646Z
LAST-MODIFIED:20240702T133024Z
LOCATION:Community Room
URL:https://www.hastingspubliclibrary.org/news-events/calendar/boba-and-be
 ads
END:VEVENT
BEGIN:VTIMEZONE
TZID:America/New_York
X-LIC-LOCATION:America/New_York
BEGIN:DAYLIGHT
DTSTART:20240310T030000
TZNAME:EDT
TZOFFSETFROM:-0500
TZOFFSETTO:-0400
END:DAYLIGHT
END:VTIMEZONE
END:VCALENDAR
