BEGIN:VCALENDAR
VERSION:2.0
PRODID:-//Plone.org//NONSGML plone.app.event//EN
X-WR-TIMEZONE:America/New_York
BEGIN:VEVENT
SUMMARY:Board Games
DTSTART;TZID=America/New_York:20190921T110000
DTEND;TZID=America/New_York:20190921T150000
DTSTAMP:20260421T030853Z
UID:5fa20d0e43974f2db5187a03bd6b32ce@saas_stack_varnish:6080
RRULE:FREQ=MONTHLY;UNTIL=20201204T000000;BYDAY=+3SA
EXDATE;TZID=America/New_York:20200321T000000,20200418T000000,20200516T0000
 00,20200620T000000,20200718T000000,20200815T000000,20200919T000000,2020101
 7T000000,20201121T000000,20201219T000000
ATTENDEE;CN=Adults;ROLE=REQ-PARTICIPANT:Adults
CATEGORIES:adult,games
CONTACT:T. J. Taylor
CREATED:20190910T143057Z
DESCRIPTION:Come and play award-winning board games with a group of enthus
 iastic adults.
LAST-MODIFIED:20201204T152101Z
LOCATION:Community Room
URL:https://www.hastingspubliclibrary.org/news-events/calendar/board-games
END:VEVENT
BEGIN:VTIMEZONE
TZID:America/New_York
X-LIC-LOCATION:America/New_York
BEGIN:DAYLIGHT
DTSTART:20190310T030000
TZNAME:EDT
TZOFFSETFROM:-0500
TZOFFSETTO:-0400
END:DAYLIGHT
END:VTIMEZONE
END:VCALENDAR
